BEGIN:VCALENDAR
VERSION:2.0
PRODID:-//www.artei.org//NONSGML kigkonsult.se iCalcreator 2.30.10//
CALSCALE:GREGORIAN
METHOD:PUBLISH
UID:80c0ae0d-dd98-4378-944f-60b1d1ab0a49
X-WR-CALDESC:
X-WR-RELCALID:ccb083f6030378717222d9490e7420e0
X-WR-TIMEZONE:America/Chicago
BEGIN:VTIMEZONE
TZID:America/Chicago
BEGIN:STANDARD
TZNAME:CST
DTSTART:20221106T020000
TZOFFSETFROM:-0500
TZOFFSETTO:-0600
RDATE:20231105T020000
RDATE:20241103T020000
END:STANDARD
BEGIN:DAYLIGHT
TZNAME:CDT
DTSTART:20230312T020000
TZOFFSETFROM:-0600
TZOFFSETTO:-0500
RDATE:20240310T020000
RDATE:20250309T020000
END:DAYLIGHT
END:VTIMEZONE
BEGIN:VEVENT
UID:ffb777c5-0adb-4827-8359-fd05d62377ec
DTSTAMP:20260425T234839Z
DESCRIPTION:
DTSTART;TZID=America/Chicago:20230927T160000
DTEND;TZID=America/Chicago:20230927T180000
LOCATION:
SUMMARY:Russellville Chamber: Commerce & Connections Networking event
END:VEVENT
END:VCALENDAR
