BEGIN:VCALENDAR
VERSION:2.0
PRODID:-//www.artei.org//NONSGML kigkonsult.se iCalcreator 2.30.10//
CALSCALE:GREGORIAN
METHOD:PUBLISH
UID:176a2c50-afd9-49bd-8a0b-3d0cfde40f37
X-WR-CALDESC:
X-WR-RELCALID:e0b0131e22404d7b80cbc4fde1f8cfed
X-WR-TIMEZONE:America/Chicago
BEGIN:VTIMEZONE
TZID:America/Chicago
BEGIN:STANDARD
TZNAME:CST
DTSTART:20251102T020000
TZOFFSETFROM:-0500
TZOFFSETTO:-0600
RDATE:20261101T020000
END:STANDARD
BEGIN:DAYLIGHT
TZNAME:CDT
DTSTART:20250309T020000
TZOFFSETFROM:-0600
TZOFFSETTO:-0500
RDATE:20260308T020000
RDATE:20270314T020000
END:DAYLIGHT
END:VTIMEZONE
BEGIN:VEVENT
UID:3b14ca5b-341e-438d-bbb4-59dc6bace22e
DTSTAMP:20260419T135442Z
DESCRIPTION:
DTSTART;TZID=America/Chicago:20251222T050000
DTEND;TZID=America/Chicago:20260104T050001
LOCATION:
SUMMARY:Offices closed for Holiday
END:VEVENT
END:VCALENDAR
