BEGIN:VCALENDAR
VERSION:2.0
PRODID:-//www.artei.org//NONSGML kigkonsult.se iCalcreator 2.30.10//
CALSCALE:GREGORIAN
METHOD:PUBLISH
UID:46cd4785-7e9a-4415-ab04-345379e8138a
X-WR-CALDESC:
X-WR-RELCALID:832dcf18a63d0da95e4d70f1d7a82cea
X-WR-TIMEZONE:America/Chicago
BEGIN:VTIMEZONE
TZID:America/Chicago
BEGIN:STANDARD
TZNAME:CST
DTSTART:20251102T020000
TZOFFSETFROM:-0500
TZOFFSETTO:-0600
RDATE:20261101T020000
END:STANDARD
BEGIN:DAYLIGHT
TZNAME:CDT
DTSTART:20250309T020000
TZOFFSETFROM:-0600
TZOFFSETTO:-0500
RDATE:20260308T020000
RDATE:20270314T020000
END:DAYLIGHT
END:VTIMEZONE
BEGIN:VEVENT
UID:ac13b30f-bac9-4045-9630-606fb4933840
DTSTAMP:20260421T094657Z
DESCRIPTION:
DTSTART;TZID=America/Chicago:20260201T050000
DTEND;TZID=America/Chicago:20260201T050001
LOCATION:
SUMMARY:BLACK HISTORY MONTH
END:VEVENT
END:VCALENDAR
