BEGIN:VCALENDAR
VERSION:2.0
PRODID:-//www.artei.org//NONSGML kigkonsult.se iCalcreator 2.30.10//
CALSCALE:GREGORIAN
METHOD:PUBLISH
UID:73690918-18b7-42ed-9869-32071e903d25
X-WR-CALDESC:
X-WR-RELCALID:e0a8cac456338aed71c4d26816f043be
X-WR-TIMEZONE:America/Chicago
BEGIN:VTIMEZONE
TZID:America/Chicago
BEGIN:STANDARD
TZNAME:CST
DTSTART:20251102T020000
TZOFFSETFROM:-0500
TZOFFSETTO:-0600
RDATE:20261101T020000
END:STANDARD
BEGIN:DAYLIGHT
TZNAME:CDT
DTSTART:20250309T020000
TZOFFSETFROM:-0600
TZOFFSETTO:-0500
RDATE:20260308T020000
RDATE:20270314T020000
END:DAYLIGHT
END:VTIMEZONE
BEGIN:VEVENT
UID:ab706810-b7ec-4987-96be-61939a55a5c1
DTSTAMP:20260421T094344Z
DESCRIPTION:
DTSTART;TZID=America/Chicago:20260201T050000
DTEND;TZID=America/Chicago:20260201T050001
LOCATION:
SUMMARY:NATIONAL CANCER PREVENTION MONTH
END:VEVENT
END:VCALENDAR
