BEGIN:VCALENDAR
VERSION:2.0
PRODID:-//www.artei.org//NONSGML kigkonsult.se iCalcreator 2.30.10//
CALSCALE:GREGORIAN
METHOD:PUBLISH
UID:f7ae7a13-d559-430b-8012-6ac1fa5b941c
X-WR-CALDESC:
X-WR-RELCALID:3abd17b4fa2f1b3371744323b733f75a
X-WR-TIMEZONE:America/Chicago
BEGIN:VTIMEZONE
TZID:America/Chicago
BEGIN:STANDARD
TZNAME:CST
DTSTART:20251102T020000
TZOFFSETFROM:-0500
TZOFFSETTO:-0600
RDATE:20261101T020000
END:STANDARD
BEGIN:DAYLIGHT
TZNAME:CDT
DTSTART:20250309T020000
TZOFFSETFROM:-0600
TZOFFSETTO:-0500
RDATE:20260308T020000
RDATE:20270314T020000
END:DAYLIGHT
END:VTIMEZONE
BEGIN:VEVENT
UID:a454483d-76f5-4e1f-8f83-3887ad5d1c28
DTSTAMP:20260421T100538Z
DESCRIPTION:
DTSTART;TZID=America/Chicago:20260216T050000
DTEND;TZID=America/Chicago:20260216T050001
LOCATION:
SUMMARY:Presidents Day\, Offices Closed
END:VEVENT
END:VCALENDAR
