BEGIN:VCALENDAR
VERSION:2.0
PRODID:-//www.artei.org//NONSGML kigkonsult.se iCalcreator 2.30.10//
CALSCALE:GREGORIAN
METHOD:PUBLISH
UID:3c1c0c1e-3b14-4b72-b4bb-598fad47f704
X-WR-CALDESC:Join ARTEI for a Zoom webinar addressing youth vaping and nico
 tine use in Arkansas. Learn about the latest trends in youth nicotine cons
 umption and free resources that are available to help.\n\nThere is no cost
  to attend\, and webinar participants can receive scholarships valued at $
 400 for the Lung Association’s Not On Tobacco facilitator training. Unlike
  other cessation programs that adapt adult curricula\, N-O-T was specifica
 lly designed for teenagers and addresses issues that are particularly rele
 vant to them. The program takes a holistic approach\, using various intera
 ctive learning strategies based on the Social Cognitive Theory of behavior
  change\, which can be applied in everyday life. It encourages voluntary c
 hange among youth aged 13 to 19. Obtaining a N-O-T certification can help 
 you understand youth who are addicted to vaping and provide you with tools
  to assist them\, which could be beneficial in your work. Hosting a clinic
  is not mandatory for certification. All we ask is that you promote the N-
 O-T program and our N-O-T for Me self-guided\, mobile-friendly online prog
 ram.
X-WR-RELCALID:25b34a14b4c091154cf09d83224d3185
X-WR-TIMEZONE:America/Chicago
BEGIN:VTIMEZONE
TZID:America/Chicago
BEGIN:STANDARD
TZNAME:CST
DTSTART:20251102T020000
TZOFFSETFROM:-0500
TZOFFSETTO:-0600
RDATE:20261101T020000
END:STANDARD
BEGIN:DAYLIGHT
TZNAME:CDT
DTSTART:20260308T020000
TZOFFSETFROM:-0600
TZOFFSETTO:-0500
RDATE:20270314T020000
END:DAYLIGHT
END:VTIMEZONE
BEGIN:VEVENT
UID:24ef8a99-0501-42cf-a015-154878748cd7
DTSTAMP:20260423T221153Z
DESCRIPTION:Join ARTEI for a Zoom webinar addressing youth vaping and nicot
 ine use in Arkansas. Learn about the latest trends in youth nicotine consu
 mption and free resources that are available to help.\n\nThere is no cost 
 to attend\, and webinar participants can receive scholarships valued at $4
 00 for the Lung Association’s Not On Tobacco facilitator training. Unlike 
 other cessation programs that adapt adult curricula\, N-O-T was specifical
 ly designed for teenagers and addresses issues that are particularly relev
 ant to them. The program takes a holistic approach\, using various interac
 tive learning strategies based on the Social Cognitive Theory of behavior 
 change\, which can be applied in everyday life. It encourages voluntary ch
 ange among youth aged 13 to 19. Obtaining a N-O-T certification can help y
 ou understand youth who are addicted to vaping and provide you with tools 
 to assist them\, which could be beneficial in your work. Hosting a clinic 
 is not mandatory for certification. All we ask is that you promote the N-O
 -T program and our N-O-T for Me self-guided\, mobile-friendly online progr
 am.
DTSTART;TZID=America/Chicago:20260428T120000
DTEND;TZID=America/Chicago:20260428T130000
LOCATION:
SUMMARY:Youth Vaping & Nicotine Use: Webinar for Arkansas School Nurses
END:VEVENT
END:VCALENDAR
