BEGIN:VCALENDAR
VERSION:2.0
PRODID:-//www.artei.org//NONSGML kigkonsult.se iCalcreator 2.30.10//
CALSCALE:GREGORIAN
METHOD:PUBLISH
UID:bf8036cc-9583-4064-a53c-f41bbd8f8c3f
X-WR-CALDESC:Health Promotions Specialist\, Melissa Kemmerly\, will speak w
 ith 7th and 8th grade students about the harms of vaping and nicotine use.
X-WR-RELCALID:d377bb51bdca3842c4f06bd9ce403203
X-WR-TIMEZONE:America/Chicago
BEGIN:VTIMEZONE
TZID:America/Chicago
BEGIN:STANDARD
TZNAME:CST
DTSTART:20251102T020000
TZOFFSETFROM:-0500
TZOFFSETTO:-0600
RDATE:20261101T020000
END:STANDARD
BEGIN:DAYLIGHT
TZNAME:CDT
DTSTART:20260308T020000
TZOFFSETFROM:-0600
TZOFFSETTO:-0500
RDATE:20270314T020000
END:DAYLIGHT
END:VTIMEZONE
BEGIN:VEVENT
UID:761d8bb7-b6d6-48b2-a2ae-a431d2fa1369
DTSTAMP:20260425T171225Z
DESCRIPTION:Health Promotions Specialist\, Melissa Kemmerly\, will speak wi
 th 7th and 8th grade students about the harms of vaping and nicotine use.
DTSTART;TZID=America/Chicago:20260501T050000
DTEND;TZID=America/Chicago:20260501T050001
LOCATION:
SUMMARY:Malvern Middle School classroom vaping presentations
END:VEVENT
END:VCALENDAR
