BEGIN:VCALENDAR
VERSION:2.0
PRODID:-//www.artei.org//NONSGML kigkonsult.se iCalcreator 2.30.10//
CALSCALE:GREGORIAN
METHOD:PUBLISH
UID:772d9e72-fbdd-46ba-8daf-2e6a1f4a76ad
X-WR-CALDESC:Stop by ARTEI's booth to connect with us!
X-WR-RELCALID:d340090e12441735f7a61e0990d97a24
X-WR-TIMEZONE:America/Chicago
BEGIN:VTIMEZONE
TZID:America/Chicago
BEGIN:STANDARD
TZNAME:CST
DTSTART:20251102T020000
TZOFFSETFROM:-0500
TZOFFSETTO:-0600
RDATE:20261101T020000
END:STANDARD
BEGIN:DAYLIGHT
TZNAME:CDT
DTSTART:20260308T020000
TZOFFSETFROM:-0600
TZOFFSETTO:-0500
RDATE:20270314T020000
END:DAYLIGHT
END:VTIMEZONE
BEGIN:VEVENT
UID:1d5f3311-1745-4201-b598-e7ddd6943de5
DTSTAMP:20260425T160610Z
DESCRIPTION:Stop by ARTEI's booth to connect with us!
DTSTART;TZID=America/Chicago:20260507T100000
DTEND;TZID=America/Chicago:20260507T150000
LOCATION:Pine Bluff Convention Center-- 1 Convention Center Dr\, Pine Bluff
 \, AR 71601
SUMMARY:Pine Bluff Business Expo
END:VEVENT
END:VCALENDAR
