BEGIN:VCALENDAR
VERSION:2.0
PRODID:-//www.artei.org//NONSGML kigkonsult.se iCalcreator 2.30.10//
CALSCALE:GREGORIAN
METHOD:PUBLISH
UID:44882363-37fb-4e7e-b127-c33059493ee5
X-WR-CALDESC:Stop by ARTEI's booth to connect with us!
X-WR-RELCALID:c386ea674611228a5a484788517c2078
X-WR-TIMEZONE:America/Chicago
BEGIN:VTIMEZONE
TZID:America/Chicago
BEGIN:STANDARD
TZNAME:CST
DTSTART:20251102T020000
TZOFFSETFROM:-0500
TZOFFSETTO:-0600
RDATE:20261101T020000
RDATE:20271107T020000
END:STANDARD
BEGIN:DAYLIGHT
TZNAME:CDT
DTSTART:20260308T020000
TZOFFSETFROM:-0600
TZOFFSETTO:-0500
RDATE:20270314T020000
END:DAYLIGHT
END:VTIMEZONE
BEGIN:VEVENT
UID:13372039-fd99-415b-8e6c-424dce27f278
DTSTAMP:20260425T162938Z
DESCRIPTION:Stop by ARTEI's booth to connect with us!
DTSTART;TZID=America/Chicago:20260512T110000
DTEND;TZID=America/Chicago:20260512T130000
LOCATION:Pleasant Grove Baptist Church-- 708 S Pine St\, Bald Knob\, AR 720
 10
SUMMARY:Bald Knob Community Resource Fair
END:VEVENT
END:VCALENDAR
