BEGIN:VCALENDAR
VERSION:2.0
PRODID:-//www.artei.org//NONSGML kigkonsult.se iCalcreator 2.30.10//
CALSCALE:GREGORIAN
METHOD:PUBLISH
UID:13b549a7-51e6-4a01-8def-e39bebb521d6
X-WR-CALDESC:
X-WR-RELCALID:9198b8ebbb3be767ade6248b5f45b52f
X-WR-TIMEZONE:America/Chicago
BEGIN:VTIMEZONE
TZID:America/Chicago
BEGIN:STANDARD
TZNAME:CST
DTSTART:20251102T020000
TZOFFSETFROM:-0500
TZOFFSETTO:-0600
RDATE:20261101T020000
RDATE:20271107T020000
END:STANDARD
BEGIN:DAYLIGHT
TZNAME:CDT
DTSTART:20260308T020000
TZOFFSETFROM:-0600
TZOFFSETTO:-0500
RDATE:20270314T020000
END:DAYLIGHT
END:VTIMEZONE
BEGIN:VEVENT
UID:68e762ec-4799-48e4-bd9c-55dac1dba905
DTSTAMP:20260425T160843Z
DESCRIPTION:
DTSTART;TZID=America/Chicago:20260529T120000
DTEND;TZID=America/Chicago:20260529T130000
LOCATION:Slim & Shorty's-- 617 Clinton St\, Arkadelphia\, AR 71923
SUMMARY:Arkadelphia Rotary Club presentation
END:VEVENT
END:VCALENDAR
