BEGIN:VCALENDAR
VERSION:2.0
PRODID:-//www.artei.org//NONSGML kigkonsult.se iCalcreator 2.30.10//
CALSCALE:GREGORIAN
METHOD:PUBLISH
UID:959c8544-8a3e-4064-b26f-50b69fc4198b
X-WR-CALDESC:
X-WR-RELCALID:361998824db80260b3287b2fd26d4e6b
X-WR-TIMEZONE:America/Chicago
BEGIN:VTIMEZONE
TZID:America/Chicago
BEGIN:STANDARD
TZNAME:CST
DTSTART:20251102T020000
TZOFFSETFROM:-0500
TZOFFSETTO:-0600
RDATE:20261101T020000
RDATE:20271107T020000
END:STANDARD
BEGIN:DAYLIGHT
TZNAME:CDT
DTSTART:20260308T020000
TZOFFSETFROM:-0600
TZOFFSETTO:-0500
RDATE:20270314T020000
END:DAYLIGHT
END:VTIMEZONE
BEGIN:VEVENT
UID:47652cf0-3928-4ad5-b96d-d1afb5dd635c
DTSTAMP:20260425T163417Z
DESCRIPTION:
DTSTART;TZID=America/Chicago:20260605T050000
DTEND;TZID=America/Chicago:20260606T050001
LOCATION:
SUMMARY:American Community Gardening Association National Conference
END:VEVENT
END:VCALENDAR
