BEGIN:VCALENDAR
VERSION:2.0
PRODID:-//www.artei.org//NONSGML kigkonsult.se iCalcreator 2.30.10//
CALSCALE:GREGORIAN
METHOD:PUBLISH
UID:a04ea1cd-0b88-45ce-8140-ae616ff3a50f
X-WR-CALDESC:
X-WR-RELCALID:df8eb786144f7d94645ce3b48229f655
X-WR-TIMEZONE:America/Chicago
BEGIN:VTIMEZONE
TZID:America/Chicago
BEGIN:STANDARD
TZNAME:CST
DTSTART:20281105T020000
TZOFFSETFROM:-0500
TZOFFSETTO:-0600
RDATE:20291104T020000
END:STANDARD
BEGIN:DAYLIGHT
TZNAME:CDT
DTSTART:20280312T020000
TZOFFSETFROM:-0600
TZOFFSETTO:-0500
RDATE:20290311T020000
RDATE:20300310T020000
END:DAYLIGHT
END:VTIMEZONE
BEGIN:VEVENT
UID:87bbcf12-07cd-4a37-8d4a-e10934363993
DTSTAMP:20260421T110757Z
DESCRIPTION:
DTSTART;TZID=America/Chicago:20290201T050000
DTEND;TZID=America/Chicago:20290201T050001
LOCATION:
SUMMARY:BLACK HISTORY MONTH
END:VEVENT
END:VCALENDAR
