BEGIN:VCALENDAR
VERSION:2.0
PRODID:-//www.artei.org//NONSGML kigkonsult.se iCalcreator 2.30.10//
CALSCALE:GREGORIAN
METHOD:PUBLISH
UID:96eb271c-3d54-4cd5-a9a6-6fffc42532f5
X-WR-CALDESC:
X-WR-RELCALID:700722131612869f6f5413690af1cd54
X-WR-TIMEZONE:America/Chicago
BEGIN:VTIMEZONE
TZID:America/Chicago
BEGIN:STANDARD
TZNAME:CST
DTSTART:20281105T020000
TZOFFSETFROM:-0500
TZOFFSETTO:-0600
RDATE:20291104T020000
END:STANDARD
BEGIN:DAYLIGHT
TZNAME:CDT
DTSTART:20280312T020000
TZOFFSETFROM:-0600
TZOFFSETTO:-0500
RDATE:20290311T020000
RDATE:20300310T020000
END:DAYLIGHT
END:VTIMEZONE
BEGIN:VEVENT
UID:089d11c8-363b-44c2-b945-df07af1b917c
DTSTAMP:20260421T105659Z
DESCRIPTION:
DTSTART;TZID=America/Chicago:20290201T050000
DTEND;TZID=America/Chicago:20290201T050001
LOCATION:
SUMMARY:NATIONAL CANCER PREVENTION MONTH
END:VEVENT
END:VCALENDAR
