BEGIN:VCALENDAR
VERSION:2.0
PRODID:-//www.artei.org//NONSGML kigkonsult.se iCalcreator 2.30.10//
CALSCALE:GREGORIAN
METHOD:PUBLISH
UID:052c310c-3b86-453d-b175-735b54354633
X-WR-CALDESC:
X-WR-RELCALID:d4aa24c2b3719266be623a63883ae3d5
X-WR-TIMEZONE:America/Chicago
BEGIN:VTIMEZONE
TZID:America/Chicago
BEGIN:STANDARD
TZNAME:CST
DTSTART:20281105T020000
TZOFFSETFROM:-0500
TZOFFSETTO:-0600
RDATE:20291104T020000
END:STANDARD
BEGIN:DAYLIGHT
TZNAME:CDT
DTSTART:20290311T020000
TZOFFSETFROM:-0600
TZOFFSETTO:-0500
RDATE:20300310T020000
END:DAYLIGHT
END:VTIMEZONE
BEGIN:VEVENT
UID:6ff52528-0029-45b5-bed4-1ba06b9369a3
DTSTAMP:20260423T111839Z
DESCRIPTION:
DTSTART;TZID=America/Chicago:20290401T050000
DTEND;TZID=America/Chicago:20290401T050001
LOCATION:
SUMMARY:NATIONAL CANCER PREVENTION & EARLY DETECTION MONTH
END:VEVENT
END:VCALENDAR
