BEGIN:VCALENDAR
VERSION:2.0
PRODID:-//www.artei.org//NONSGML kigkonsult.se iCalcreator 2.30.10//
CALSCALE:GREGORIAN
METHOD:PUBLISH
UID:8eec960a-93db-46c3-a38e-b5bbb8398a79
X-WR-CALDESC:
X-WR-RELCALID:05cdcce6dcb5f8835dfb157495100f73
X-WR-TIMEZONE:America/Chicago
BEGIN:VTIMEZONE
TZID:America/Chicago
BEGIN:STANDARD
TZNAME:CST
DTSTART:20281105T020000
TZOFFSETFROM:-0500
TZOFFSETTO:-0600
RDATE:20291104T020000
END:STANDARD
BEGIN:DAYLIGHT
TZNAME:CDT
DTSTART:20290311T020000
TZOFFSETFROM:-0600
TZOFFSETTO:-0500
RDATE:20300310T020000
END:DAYLIGHT
END:VTIMEZONE
BEGIN:VEVENT
UID:b3ed1ad7-578e-4039-932e-a22f101d0edf
DTSTAMP:20260423T112039Z
DESCRIPTION:
DTSTART;TZID=America/Chicago:20290401T050000
DTEND;TZID=America/Chicago:20290401T050001
LOCATION:
SUMMARY:NATIONAL MINORITY HEALTH MONTH
END:VEVENT
END:VCALENDAR
