BEGIN:VCALENDAR
VERSION:2.0
PRODID:-//www.artei.org//NONSGML kigkonsult.se iCalcreator 2.30.10//
CALSCALE:GREGORIAN
METHOD:PUBLISH
UID:ec3e1d33-4156-4b43-9b64-5c930c3048d0
X-WR-CALDESC:
X-WR-RELCALID:6ed7e118c2482e6fe7aca44551e53cad
X-WR-TIMEZONE:America/Chicago
BEGIN:VTIMEZONE
TZID:America/Chicago
BEGIN:STANDARD
TZNAME:CST
DTSTART:20281105T020000
TZOFFSETFROM:-0500
TZOFFSETTO:-0600
RDATE:20291104T020000
END:STANDARD
BEGIN:DAYLIGHT
TZNAME:CDT
DTSTART:20290311T020000
TZOFFSETFROM:-0600
TZOFFSETTO:-0500
RDATE:20300310T020000
END:DAYLIGHT
END:VTIMEZONE
BEGIN:VEVENT
UID:3409fc2e-d491-47e6-b62d-a86cb1841bed
DTSTAMP:20260423T111157Z
DESCRIPTION:
DTSTART;TZID=America/Chicago:20290401T050000
DTEND;TZID=America/Chicago:20290401T050001
LOCATION:
SUMMARY:TAKE DOWN TOBACCO DAY
END:VEVENT
END:VCALENDAR
