BEGIN:VCALENDAR
VERSION:2.0
PRODID:-//www.artei.org//NONSGML kigkonsult.se iCalcreator 2.30.10//
CALSCALE:GREGORIAN
METHOD:PUBLISH
UID:86e8eb5b-c732-4e6c-955d-95c3342f5664
X-WR-CALDESC:
X-WR-RELCALID:ddc47fd3d0b7a6756d4813560e2606eb
X-WR-TIMEZONE:America/Chicago
BEGIN:VTIMEZONE
TZID:America/Chicago
BEGIN:STANDARD
TZNAME:CST
DTSTART:20281105T020000
TZOFFSETFROM:-0500
TZOFFSETTO:-0600
RDATE:20291104T020000
END:STANDARD
BEGIN:DAYLIGHT
TZNAME:CDT
DTSTART:20290311T020000
TZOFFSETFROM:-0600
TZOFFSETTO:-0500
RDATE:20300310T020000
END:DAYLIGHT
END:VTIMEZONE
BEGIN:VEVENT
UID:302ac112-76c7-405b-bfda-41de75543bca
DTSTAMP:20260423T122730Z
DESCRIPTION:
DTSTART;TZID=America/Chicago:20290501T050000
DTEND;TZID=America/Chicago:20290501T050001
LOCATION:
SUMMARY:WOMEN'S HEALTH MONTH
END:VEVENT
END:VCALENDAR
