BEGIN:VCALENDAR
VERSION:2.0
PRODID:-//www.artei.org//NONSGML kigkonsult.se iCalcreator 2.30.10//
CALSCALE:GREGORIAN
METHOD:PUBLISH
UID:bf482f9e-1527-44d0-806a-43aa45c93026
X-WR-CALDESC:
X-WR-RELCALID:538cde7b42e8ea1fea0b9977b3a09471
X-WR-TIMEZONE:America/Chicago
BEGIN:VTIMEZONE
TZID:America/Chicago
BEGIN:STANDARD
TZNAME:CST
DTSTART:20281105T020000
TZOFFSETFROM:-0500
TZOFFSETTO:-0600
RDATE:20291104T020000
RDATE:20301103T020000
END:STANDARD
BEGIN:DAYLIGHT
TZNAME:CDT
DTSTART:20290311T020000
TZOFFSETFROM:-0600
TZOFFSETTO:-0500
RDATE:20300310T020000
END:DAYLIGHT
END:VTIMEZONE
BEGIN:VEVENT
UID:92323b54-f299-4cb4-92d6-6ca0514ba60a
DTSTAMP:20260423T124317Z
DESCRIPTION:
DTSTART;TZID=America/Chicago:20290531T050000
DTEND;TZID=America/Chicago:20290531T050001
LOCATION:
SUMMARY:WORLD NO TOBACCO DAY
END:VEVENT
END:VCALENDAR
