BEGIN:VCALENDAR
VERSION:2.0
PRODID:-//www.artei.org//NONSGML kigkonsult.se iCalcreator 2.30.10//
CALSCALE:GREGORIAN
METHOD:PUBLISH
UID:d1c792fd-5c7d-40f9-b137-cc5c2a729826
X-WR-CALDESC:
X-WR-RELCALID:b88c4b7e4de8e68970385cf758a53e73
X-WR-TIMEZONE:America/Chicago
BEGIN:VTIMEZONE
TZID:America/Chicago
BEGIN:STANDARD
TZNAME:CST
DTSTART:20281105T020000
TZOFFSETFROM:-0500
TZOFFSETTO:-0600
RDATE:20291104T020000
RDATE:20301103T020000
END:STANDARD
BEGIN:DAYLIGHT
TZNAME:CDT
DTSTART:20290311T020000
TZOFFSETFROM:-0600
TZOFFSETTO:-0500
RDATE:20300310T020000
END:DAYLIGHT
END:VTIMEZONE
BEGIN:VEVENT
UID:5ad648da-a3bc-4896-884d-5e9740d51d91
DTSTAMP:20260423T140144Z
DESCRIPTION:
DTSTART;TZID=America/Chicago:20290601T050000
DTEND;TZID=America/Chicago:20290601T050001
LOCATION:
SUMMARY:MEN'S HEALTH MONTH
END:VEVENT
END:VCALENDAR
