BEGIN:VCALENDAR
VERSION:2.0
PRODID:-//www.artei.org//NONSGML kigkonsult.se iCalcreator 2.30.10//
CALSCALE:GREGORIAN
METHOD:PUBLISH
UID:78b4043c-4044-48ed-8c47-8fa490eceebb
X-WR-CALDESC:
X-WR-RELCALID:f43985ffeab90275b81cbd62a7b4299e
X-WR-TIMEZONE:America/Chicago
BEGIN:VTIMEZONE
TZID:America/Chicago
BEGIN:STANDARD
TZNAME:CST
DTSTART:20281105T020000
TZOFFSETFROM:-0500
TZOFFSETTO:-0600
RDATE:20291104T020000
RDATE:20301103T020000
END:STANDARD
BEGIN:DAYLIGHT
TZNAME:CDT
DTSTART:20290311T020000
TZOFFSETFROM:-0600
TZOFFSETTO:-0500
RDATE:20300310T020000
END:DAYLIGHT
END:VTIMEZONE
BEGIN:VEVENT
UID:1f72f06a-824c-445f-9fac-e09c5ba50ffa
DTSTAMP:20260423T172350Z
DESCRIPTION:
DTSTART;TZID=America/Chicago:20290801T050000
DTEND;TZID=America/Chicago:20290801T050001
LOCATION:
SUMMARY:WORLD LUNG CANCER DAY
END:VEVENT
END:VCALENDAR
