BEGIN:VCALENDAR
VERSION:2.0
PRODID:-//www.artei.org//NONSGML kigkonsult.se iCalcreator 2.30.10//
CALSCALE:GREGORIAN
METHOD:PUBLISH
UID:72850024-1f16-4ecb-ac28-703d2088915d
X-WR-CALDESC:
X-WR-RELCALID:e643839767364fe3c7b9b65d285e2ccf
X-WR-TIMEZONE:America/Chicago
BEGIN:VTIMEZONE
TZID:America/Chicago
BEGIN:STANDARD
TZNAME:CST
DTSTART:20281105T020000
TZOFFSETFROM:-0500
TZOFFSETTO:-0600
RDATE:20291104T020000
RDATE:20301103T020000
END:STANDARD
BEGIN:DAYLIGHT
TZNAME:CDT
DTSTART:20290311T020000
TZOFFSETFROM:-0600
TZOFFSETTO:-0500
RDATE:20300310T020000
RDATE:20310309T020000
END:DAYLIGHT
END:VTIMEZONE
BEGIN:VEVENT
UID:158558b8-ae54-4d17-b4bc-b842c859bbe5
DTSTAMP:20260423T212444Z
DESCRIPTION:
DTSTART;TZID=America/Chicago:20291001T050000
DTEND;TZID=America/Chicago:20291001T050001
LOCATION:
SUMMARY:NATIONAL HEALTHY LUNG MONTH
END:VEVENT
END:VCALENDAR
