BEGIN:VCALENDAR
VERSION:2.0
PRODID:-//www.artei.org//NONSGML kigkonsult.se iCalcreator 2.30.10//
CALSCALE:GREGORIAN
METHOD:PUBLISH
UID:8e5d21d6-a6f6-49ab-9d48-657cd4e924b4
X-WR-CALDESC:
X-WR-RELCALID:b67a8f8f94cb79eccf4b6b0bb33d002c
X-WR-TIMEZONE:America/Chicago
BEGIN:VTIMEZONE
TZID:America/Chicago
BEGIN:STANDARD
TZNAME:CST
DTSTART:20281105T020000
TZOFFSETFROM:-0500
TZOFFSETTO:-0600
RDATE:20291104T020000
RDATE:20301103T020000
END:STANDARD
BEGIN:DAYLIGHT
TZNAME:CDT
DTSTART:20290311T020000
TZOFFSETFROM:-0600
TZOFFSETTO:-0500
RDATE:20300310T020000
RDATE:20310309T020000
END:DAYLIGHT
END:VTIMEZONE
BEGIN:VEVENT
UID:89241ae9-2bb8-4063-bf39-ffa3dfc64342
DTSTAMP:20260423T211256Z
DESCRIPTION:
DTSTART;TZID=America/Chicago:20291001T050000
DTEND;TZID=America/Chicago:20291001T050001
LOCATION:
SUMMARY:RSV AWARENESS MONTH
END:VEVENT
END:VCALENDAR
