BEGIN:VCALENDAR
VERSION:2.0
PRODID:-//www.artei.org//NONSGML kigkonsult.se iCalcreator 2.30.10//
CALSCALE:GREGORIAN
METHOD:PUBLISH
UID:f574ce15-08d9-4c48-882f-48d49a6cc81e
X-WR-CALDESC:
X-WR-RELCALID:e0b39ebe88b802a24c0126c4241faa1f
X-WR-TIMEZONE:America/Chicago
BEGIN:VTIMEZONE
TZID:America/Chicago
BEGIN:STANDARD
TZNAME:CST
DTSTART:20281105T020000
TZOFFSETFROM:-0500
TZOFFSETTO:-0600
RDATE:20291104T020000
RDATE:20301103T020000
END:STANDARD
BEGIN:DAYLIGHT
TZNAME:CDT
DTSTART:20290311T020000
TZOFFSETFROM:-0600
TZOFFSETTO:-0500
RDATE:20300310T020000
RDATE:20310309T020000
END:DAYLIGHT
END:VTIMEZONE
BEGIN:VEVENT
UID:e622229c-e766-4164-9548-6f7585ffd358
DTSTAMP:20260423T223451Z
DESCRIPTION:
DTSTART;TZID=America/Chicago:20291101T050000
DTEND;TZID=America/Chicago:20291101T050001
LOCATION:
SUMMARY:COPD AWARENESS MONTH
END:VEVENT
END:VCALENDAR
