BEGIN:VCALENDAR
VERSION:2.0
PRODID:-//www.artei.org//NONSGML kigkonsult.se iCalcreator 2.30.10//
CALSCALE:GREGORIAN
METHOD:PUBLISH
UID:61184d0c-cd16-48fc-9c11-694f4ca657e9
X-WR-CALDESC:
X-WR-RELCALID:4674944ba6ed54cfa28e3dc5c5ffce28
X-WR-TIMEZONE:America/Chicago
BEGIN:VTIMEZONE
TZID:America/Chicago
BEGIN:STANDARD
TZNAME:CST
DTSTART:20281105T020000
TZOFFSETFROM:-0500
TZOFFSETTO:-0600
RDATE:20291104T020000
RDATE:20301103T020000
END:STANDARD
BEGIN:DAYLIGHT
TZNAME:CDT
DTSTART:20290311T020000
TZOFFSETFROM:-0600
TZOFFSETTO:-0500
RDATE:20300310T020000
RDATE:20310309T020000
END:DAYLIGHT
END:VTIMEZONE
BEGIN:VEVENT
UID:43dcbf78-2af5-4170-bb47-4e41bb2ca70a
DTSTAMP:20260423T223801Z
DESCRIPTION:
DTSTART;TZID=America/Chicago:20291101T050000
DTEND;TZID=America/Chicago:20291101T050001
LOCATION:
SUMMARY:NATIONAL SMOKING CESSATION MONTH
END:VEVENT
END:VCALENDAR
