BEGIN:VCALENDAR
VERSION:2.0
PRODID:-//www.artei.org//NONSGML kigkonsult.se iCalcreator 2.30.10//
CALSCALE:GREGORIAN
METHOD:PUBLISH
UID:e0e0a307-1b33-43a7-a4d3-4585dd1554e6
X-WR-CALDESC:Sierra Whitbey will be presenting on Lung Cancer Screenings fo
 r Lung Cancer Awareness month.
X-WR-RELCALID:df5249cc03440b8c912ba2abe10e9610
X-WR-TIMEZONE:America/Chicago
BEGIN:VTIMEZONE
TZID:America/Chicago
BEGIN:STANDARD
TZNAME:CST
DTSTART:20221106T020000
TZOFFSETFROM:-0500
TZOFFSETTO:-0600
RDATE:20231105T020000
END:STANDARD
BEGIN:DAYLIGHT
TZNAME:CDT
DTSTART:20220313T020000
TZOFFSETFROM:-0600
TZOFFSETTO:-0500
RDATE:20230312T020000
RDATE:20240310T020000
END:DAYLIGHT
END:VTIMEZONE
BEGIN:VEVENT
UID:a33048b7-9898-46e1-b569-c144da57273d
DTSTAMP:20260423T164102Z
DESCRIPTION:Sierra Whitbey will be presenting on Lung Cancer Screenings for
  Lung Cancer Awareness month.
DTSTART;TZID=America/Chicago:20221114T103000
DTEND;TZID=America/Chicago:20221114T110000
LOCATION:Yell County Activity Center
SUMMARY:Yell County Senior Activity Center: Low Dose Cancer Screenings Pres
 entation
END:VEVENT
END:VCALENDAR
