BEGIN:VCALENDAR
VERSION:2.0
PRODID:-//www.artei.org//NONSGML kigkonsult.se iCalcreator 2.30.10//
CALSCALE:GREGORIAN
METHOD:PUBLISH
UID:4a0ff5b1-0ae3-450b-adfc-c7f79b161af8
X-WR-CALDESC:
X-WR-RELCALID:889a59d835024a5dab182f5209440ea8
X-WR-TIMEZONE:America/Chicago
BEGIN:VTIMEZONE
TZID:America/Chicago
BEGIN:STANDARD
TZNAME:CST
DTSTART:20241103T020000
TZOFFSETFROM:-0500
TZOFFSETTO:-0600
RDATE:20251102T020000
RDATE:20261101T020000
END:STANDARD
BEGIN:DAYLIGHT
TZNAME:CDT
DTSTART:20250309T020000
TZOFFSETFROM:-0600
TZOFFSETTO:-0500
RDATE:20260308T020000
RDATE:20270314T020000
END:DAYLIGHT
END:VTIMEZONE
BEGIN:VEVENT
UID:fda81282-2b46-48eb-a3ad-68cf1515f4f4
DTSTAMP:20260421T084513Z
DESCRIPTION:
DTSTART;TZID=America/Chicago:20251025T130000
DTEND;TZID=America/Chicago:20251025T170000
LOCATION:Arbors Independent Living
SUMMARY:Arbors Independent Living Fall Festival- Russellville
END:VEVENT
END:VCALENDAR
